BEGIN:VCALENDAR
VERSION:2.0
PRODID:-//WordPress Website - ECPv6.13.2.1//NONSGML v1.0//EN
CALSCALE:GREGORIAN
METHOD:PUBLISH
X-ORIGINAL-URL:https://adpilot.co.uk
X-WR-CALDESC:Events for WordPress Website
REFRESH-INTERVAL;VALUE=DURATION:PT1H
X-Robots-Tag:noindex
X-PUBLISHED-TTL:PT1H
BEGIN:VTIMEZONE
TZID:UTC
BEGIN:STANDARD
TZOFFSETFROM:+0000
TZOFFSETTO:+0000
TZNAME:UTC
DTSTART:20260101T000000
END:STANDARD
END:VTIMEZONE
BEGIN:VEVENT
DTSTART;TZID=UTC:20260422T080000
DTEND;TZID=UTC:20260424T170000
DTSTAMP:20260425T200139
CREATED:20251204T144720Z
LAST-MODIFIED:20251204T144720Z
UID:1244-1776844800-1777050000@adpilot.co.uk
SUMMARY:Google Cloud Next 2026
DESCRIPTION:Join us to explore the AI and cloud technology\, tools\, and insights that are making new opportunities possible – even ones that once seemed impossible.\nCompany executives will gather with analysts\, customers\, journalists and many others to compare notes and share best practices on how best to leverage the Google Cloud Platform’s tools\, especially when it comes to AI.
URL:https://adpilot.co.uk/event/google-cloud-next-2026/
LOCATION:Mandalay Bay Conversion Centre\, Las Vegas\, 3950 S Las Vegas Blvd\, Las Vegas\, NV 89119\, United States
CATEGORIES:paid search and social events
ATTACH;FMTTYPE=image/png:https://adpilot.co.uk/wp-content/uploads/2025/12/Screenshot-2025-12-04-144617.png
END:VEVENT
BEGIN:VEVENT
DTSTART;TZID=UTC:20260205T173000
DTEND;TZID=UTC:20260205T220000
DTSTAMP:20260425T200139
CREATED:20251204T152742Z
LAST-MODIFIED:20251204T152742Z
UID:1262-1770312600-1770328800@adpilot.co.uk
SUMMARY:PPC Live - London
DESCRIPTION:Confirmed speakers – Senior Paid Media Strategist Dave Alexander\, Co-founder Kat Sale\, Google Ads Scripts master Nils Rooijmans \n\nOur speakers are a mixture of those who have been speaking for many years\, who have set up their own amazingly successful events\, as well as brand new faces to the speaking stage and all fantastic experts. \nWant to connect with event attendees\, even before the event? Join our PPC Live Chat Whatsapp Group and make friends & chat about PPC struggles before the awesome event day arrives.
URL:https://adpilot.co.uk/event/ppc-live-london/
LOCATION:StrategiQ Marketing Limited\, Nicholls & Clarke\, Level 2 Warehouse\, Building 1 Fleur De Lis Psge\, London\, E1 6RB\, United Kingdom
CATEGORIES:paid search and social events
ATTACH;FMTTYPE=image/png:https://adpilot.co.uk/wp-content/uploads/2025/12/ppc-live-logo.png
END:VEVENT
END:VCALENDAR